BEGIN:VCALENDAR
VERSION:2.0
PRODID:-//Kulvio Event Calendar//kulvio.de//
CALSCALE:GREGORIAN
METHOD:PUBLISH
BEGIN:VEVENT
SUMMARY:Rock den Acker Open Air - Freitag
DTSTART:20260515T140000Z
DTEND:20260515T215900Z
DTSTAMP:20260421T035327Z
UID:kulvio-event-2892@kulvio.de
CATEGORIES:Festival,Open-Air
CREATED:20260419T161246Z
DESCRIPTION:Am Freitag startet das Rock den Acker Open Air in Nidderau-Erb
 stadt in den ersten von zwei Haupttagen mit Metal\, Hard Rock und Rock. Au
 f dem Festivalgelände an der Bonstädter Straße treten regionale und üb
 erregionale Bands auf\, darunter Indecent Behavior und Rising Insane als H
 eadliner. Das Festival im Main-Kinzig-Kreis hat sich seit seiner Gründung
  zu einem festen Termin für Rockfans etabliert.
GEO:50.273244;8.864132
LAST-MODIFIED:20260419T163353Z
LOCATION:Bonstädter Straße\, 61130\, Nidderau
STATUS:CONFIRMED
URL:https://kulvio.de/event/2892
END:VEVENT
END:VCALENDAR
