BEGIN:VCALENDAR
VERSION:2.0
PRODID:-//Kulvio Event Calendar//kulvio.de//
CALSCALE:GREGORIAN
METHOD:PUBLISH
BEGIN:VEVENT
SUMMARY:Rock den Acker Open Air - Samstag
DTSTART:20260516T120000Z
DTEND:20260516T215900Z
DTSTAMP:20260421T034608Z
UID:kulvio-event-2893@kulvio.de
CATEGORIES:Festival,Open-Air
CREATED:20260419T161246Z
DESCRIPTION:Der Samstag bildet den Höhepunkt des Rock den Acker Open Air 
 in Nidderau-Erbstadt. Auf dem Festivalgelände spielen weitere Metal- und 
 Rock-Bands\, darunter Opium fürs Volk und Maiden Unleashed. Das dreitägi
 ge Festival auf dem Gelände an der Bonstädter Straße bietet neben der M
 usik auch Gastronomie und eine familiäre Festival-Atmosphäre im Grünen.
GEO:50.273244;8.864132
LAST-MODIFIED:20260419T163353Z
LOCATION:Bonstädter Straße\, 61130\, Nidderau
STATUS:CONFIRMED
URL:https://kulvio.de/event/2893
END:VEVENT
END:VCALENDAR
