BEGIN:VCALENDAR
VERSION:2.0
PRODID:-//Kulvio Event Calendar//kulvio.de//
CALSCALE:GREGORIAN
METHOD:PUBLISH
BEGIN:VEVENT
SUMMARY:Klassik unter Sternen - Bella Italia
DTSTART:20260801T180000Z
DTEND:20260801T203000Z
DTSTAMP:20260421T042433Z
UID:kulvio-event-2894@kulvio.de
CATEGORIES:Konzert,Open-Air
CREATED:20260419T161246Z
DESCRIPTION:Das Open-Air-Konzert Klassik unter Sternen präsentiert unter 
 dem Motto Bella Italia Arien und Kanzonen aus der italienischen Oper im Sc
 hlosspark der Oberburg in Nidderau-Heldenbergen. Ein Ensemble der Frankfur
 ter Sinfoniker und Solisten führt Werke von Puccini\, Verdi und Lehár au
 f\, darunter Auszüge aus Turandot\, La Traviata und Rigoletto. Der festli
 ch beleuchtete Schlosspark bietet eine stimmungsvolle Kulisse für den Som
 merabend. Einlass ist ab 18:30 Uhr.
GEO:50.234483;8.864205
LAST-MODIFIED:20260419T163353Z
LOCATION:Windecker Straße 18\, 61130\, Nidderau
STATUS:CONFIRMED
URL:https://kulvio.de/event/2894
END:VEVENT
END:VCALENDAR
