BEGIN:VCALENDAR
VERSION:2.0
PRODID:-//Kulvio Event Calendar//kulvio.de//
CALSCALE:GREGORIAN
METHOD:PUBLISH
BEGIN:VEVENT
SUMMARY:5. Nidderau Open Air am Nidderbad - Freitag
DTSTART:20260821T170000Z
DTEND:20260821T215900Z
DTSTAMP:20260421T042122Z
UID:kulvio-event-2895@kulvio.de
CATEGORIES:Konzert,Party,Open-Air
CREATED:20260419T161246Z
DESCRIPTION:Das Nidderau Open Air geht am Nidderbad in seine fünfte Runde
 . Am Freitagabend eröffnen die Urban Club Band und DJ Biddie das zweitäg
 ige Festival mit House-Hits\, Funk- und Soul-Klassikern sowie Disco-Beats 
 auf der Open-Air-Bühne. Das Festival am Schwimmbad in der Konrad-Adenauer
 -Allee hat sich seit seiner Gründung zu einem beliebten Sommerabend-Event
  entwickelt.
GEO:50.229154;8.873771
LAST-MODIFIED:20260419T163353Z
LOCATION:Konrad-Adenauer-Allee 7a\, 61130\, Nidderau
STATUS:CONFIRMED
URL:https://kulvio.de/event/2895
END:VEVENT
END:VCALENDAR
