BEGIN:VCALENDAR
VERSION:2.0
PRODID:-//Kulvio Event Calendar//kulvio.de//
CALSCALE:GREGORIAN
METHOD:PUBLISH
BEGIN:VEVENT
SUMMARY:5. Nidderau Open Air am Nidderbad - Samstag
DTSTART:20260822T170000Z
DTEND:20260822T215900Z
DTSTAMP:20260421T042310Z
UID:kulvio-event-2896@kulvio.de
CATEGORIES:Konzert,Party,Open-Air
CREATED:20260419T161246Z
DESCRIPTION:Am Samstag geht das Nidderau Open Air am Nidderbad in den zwei
 ten Abend. Die Urban Club Band und DJ Biddie sorgen erneut für Live-Musik
  und Party-Stimmung auf der Open-Air-Bühne am Schwimmbad. Das zweitägige
  Festival in der Konrad-Adenauer-Allee zieht seit seiner Gründung Besuche
 r aus dem gesamten Main-Kinzig-Kreis an.
GEO:50.229154;8.873771
LAST-MODIFIED:20260419T163353Z
LOCATION:Konrad-Adenauer-Allee 7a\, 61130\, Nidderau
STATUS:CONFIRMED
URL:https://kulvio.de/event/2896
END:VEVENT
END:VCALENDAR
