BEGIN:VCALENDAR
VERSION:2.0
PRODID:-//Kulvio Event Calendar//kulvio.de//
CALSCALE:GREGORIAN
METHOD:PUBLISH
BEGIN:VEVENT
SUMMARY:Nidderauer Weihnachtsmarkt - Samstag
DTSTART:20261128T130000Z
DTEND:20261128T210000Z
DTSTAMP:20260421T034610Z
UID:kulvio-event-2897@kulvio.de
CATEGORIES:Weihnachtsmarkt
CREATED:20260419T161246Z
DESCRIPTION:Der Nidderauer Weihnachtsmarkt verwandelt den historischen Mar
 ktplatz in der Windecker Altstadt am ersten Adventswochenende in ein vorwe
 ihnachtliches Dorf. Ab 14 Uhr laden die Stände mit Kunsthandwerk\, Glühw
 ein und weihnachtlichen Leckereien zum Bummeln durch das Fachwerkensemble 
 ein. Der Markt findet nach einer mehrjährigen Pause wieder auf dem neu ge
 stalteten Marktplatz statt.
GEO:50.222712;8.879442
LAST-MODIFIED:20260419T163353Z
LOCATION:Marktplatz Windecken\, 61130\, Nidderau
STATUS:CONFIRMED
URL:https://kulvio.de/event/2897
END:VEVENT
END:VCALENDAR
