BEGIN:VCALENDAR
VERSION:2.0
PRODID:-//Kulvio Event Calendar//kulvio.de//
CALSCALE:GREGORIAN
METHOD:PUBLISH
BEGIN:VEVENT
SUMMARY:Nidderauer Weihnachtsmarkt - Sonntag
DTSTART:20261129T110000Z
DTEND:20261129T190000Z
DTSTAMP:20260421T035125Z
UID:kulvio-event-2898@kulvio.de
CATEGORIES:Weihnachtsmarkt
CREATED:20260419T161246Z
DESCRIPTION:Am ersten Adventssonntag empfängt der Nidderauer Weihnachtsma
 rkt die Besucher ab 12 Uhr auf dem historischen Marktplatz in der Windecke
 r Altstadt. Bis 20 Uhr können Familien durch die Stände bummeln und sich
  an Glühwein\, Bratwurst und Kunsthandwerk erfreuen. Der Marktplatz mit s
 einen Fachwerkhäusern bietet eine stimmungsvolle Kulisse für den vorweih
 nachtlichen Bummel.
GEO:50.222712;8.879442
LAST-MODIFIED:20260419T163353Z
LOCATION:Marktplatz Windecken\, 61130\, Nidderau
STATUS:CONFIRMED
URL:https://kulvio.de/event/2898
END:VEVENT
END:VCALENDAR
