BEGIN:VCALENDAR
VERSION:2.0
PRODID:-//Kulvio Event Calendar//kulvio.de//
CALSCALE:GREGORIAN
METHOD:PUBLISH
BEGIN:VEVENT
SUMMARY:Poetry Slam No. 7 im Kulturcafé Groß-Gerau
DTSTART:20260424T173000Z
DTEND:20260424T183000Z
DTSTAMP:20260421T042007Z
UID:kulvio-event-2899@kulvio.de
CATEGORIES:Open Mic
CREATED:20260419T161302Z
DESCRIPTION:Der siebte Poetry Slam im Kulturcafé Groß-Gerau bringt Worta
 krobaten und Bühnenpoeten auf die Bühne. Bei diesem Dichterwettstreit tr
 eten mehrere Slammer gegeneinander an und das Publikum entscheidet\, wer d
 en Abend gewinnt. Der Poetry Slam bietet eine abwechslungsreiche Mischung 
 aus Lyrik\, Prosa und Performance. Einlass ist ab 19:30 Uhr im Kulturcafé
 -Saal in der Darmstädter Straße.
GEO:49.919379;8.48587
LAST-MODIFIED:20260419T163353Z
LOCATION:Kulturcafé e.V.\, Darmstädter Straße 31\, 64521\, Groß-Gerau
STATUS:CONFIRMED
URL:https://kulvio.de/event/2899
END:VEVENT
END:VCALENDAR
