BEGIN:VCALENDAR
VERSION:2.0
PRODID:-//Kulvio Event Calendar//kulvio.de//
CALSCALE:GREGORIAN
METHOD:PUBLISH
BEGIN:VEVENT
SUMMARY:Pflanzenflohmarkt Groß-Gerau
DTSTART:20260502T060000Z
DTEND:20260502T100000Z
DTSTAMP:20260421T035111Z
UID:kulvio-event-2900@kulvio.de
CATEGORIES:Flohmarkt
CREATED:20260419T161302Z
DESCRIPTION:Der Pflanzenflohmarkt am Sandböhl in Groß-Gerau lädt Garten
 freunde und Pflanzenliebhaber zum Stöbern und Tauschen ein. Von Stauden 
 über Setzlinge bis hin zu Zimmerpflanzen bieten private Anbieter ein brei
 tes Sortiment an. Der Markt findet von 8 bis 12 Uhr statt und der Eintritt
  ist frei.
GEO:49.920794;8.48351
LAST-MODIFIED:20260419T163353Z
LOCATION:Am Sandböhl\, 64521\, Groß-Gerau
STATUS:CONFIRMED
URL:https://kulvio.de/event/2900
END:VEVENT
END:VCALENDAR
