BEGIN:VCALENDAR
VERSION:2.0
PRODID:-//Kulvio Event Calendar//kulvio.de//
CALSCALE:GREGORIAN
METHOD:PUBLISH
BEGIN:VEVENT
SUMMARY:NOTASIS — Oasis Tribute im Kulturcafé Groß-Gerau
DTSTART:20260523T180000Z
DTEND:20260523T190000Z
DTSTAMP:20260421T042010Z
UID:kulvio-event-2901@kulvio.de
CATEGORIES:Konzert
CREATED:20260419T161303Z
DESCRIPTION:Die Tribute-Band NOTASIS bringt die größten Hits von Oasis a
 uf die Bühne des Kulturcafé Groß-Gerau. Von Wonderwall bis Don't Look B
 ack in Anger erwarten das Publikum die Klassiker der Britpop-Legende in au
 thentischer Live-Darbietung. Der Konzertabend beginnt um 20 Uhr im Kulturc
 afé-Saal.
GEO:49.919379;8.48587
LAST-MODIFIED:20260419T163353Z
LOCATION:Kulturcafé e.V.\, Darmstädter Straße 31\, 64521\, Groß-Gerau
STATUS:CONFIRMED
URL:https://kulvio.de/event/2901
END:VEVENT
END:VCALENDAR
