BEGIN:VCALENDAR
VERSION:2.0
PRODID:-//Kulvio Event Calendar//kulvio.de//
CALSCALE:GREGORIAN
METHOD:PUBLISH
BEGIN:VEVENT
SUMMARY:Folkwards! Tanzworkshop im Kulturcafé Groß-Gerau
DTSTART:20260619T180000Z
DTEND:20260619T190000Z
DTSTAMP:20260421T041934Z
UID:kulvio-event-2902@kulvio.de
CATEGORIES:Tanzkurs,Workshop
CREATED:20260419T161303Z
DESCRIPTION:Beim Folkwards-Tanzworkshop im Kulturcafé Groß-Gerau lernen 
 Teilnehmende traditionelle Volkstänze unter Anleitung von Britta Draudt u
 nd der Gruppe Dudlhupf. Der Workshop richtet sich an Anfänger und Fortges
 chrittene gleichermaßen und verbindet Bewegung mit geselligem Miteinander
 . Beginn ist um 20 Uhr\, Vorkenntnisse sind nicht erforderlich.
GEO:49.919379;8.48587
LAST-MODIFIED:20260419T163353Z
LOCATION:Kulturcafé e.V.\, Darmstädter Straße 31\, 64521\, Groß-Gerau
STATUS:CONFIRMED
URL:https://kulvio.de/event/2902
END:VEVENT
END:VCALENDAR
