BEGIN:VCALENDAR
VERSION:2.0
PRODID:-//Kulvio Event Calendar//kulvio.de//
CALSCALE:GREGORIAN
METHOD:PUBLISH
BEGIN:VEVENT
SUMMARY:Volk im Schloss 2026 — Freitag
DTSTART:20260821T150000Z
DTEND:20260821T210000Z
DTSTAMP:20260421T042427Z
UID:kulvio-event-2903@kulvio.de
CATEGORIES:Festival,Open-Air
CREATED:20260419T161303Z
DESCRIPTION:Das Festival Volk im Schloss startet am Freitag mit dem tradit
 ionellen Fassbieranstich im Schloss Dornberg in Groß-Gerau. Die lokale Ba
 nd The Whitebinders eröffnet das dreitägige Kulturprogramm auf der Bühn
 e. Das Festival bietet neben Live-Musik auch Straßentheater\, Kabarett un
 d ein Kinderprogramm. Der Eintritt ist an allen drei Tagen frei.
GEO:49.918349;8.519243
LAST-MODIFIED:20260419T163353Z
LOCATION:Schloss Dornberg\, Hauptstraße 1\, 64521\, Groß-Gerau
STATUS:CONFIRMED
URL:https://kulvio.de/event/2903
END:VEVENT
END:VCALENDAR
