BEGIN:VCALENDAR
VERSION:2.0
PRODID:-//Kulvio Event Calendar//kulvio.de//
CALSCALE:GREGORIAN
METHOD:PUBLISH
BEGIN:VEVENT
SUMMARY:Volk im Schloss 2026 — Samstag
DTSTART:20260822T120000Z
DTEND:20260822T210000Z
DTSTAMP:20260421T043148Z
UID:kulvio-event-2904@kulvio.de
CATEGORIES:Festival,Konzert,Open-Air
CREATED:20260419T161303Z
DESCRIPTION:Am Samstag des Festivals Volk im Schloss steht der Auftritt vo
 n New Model Army im Mittelpunkt. Die britische Post-Punk-Band spielt auf d
 er Hauptbühne im Schloss Dornberg. Weitere Acts sind die belgische Brass-
 Elektronik-Band NAFT und die Frankfurter Ska-Reggae-Rock-Gruppe Revolte Ta
 nzbein. Der Eintritt ist frei.
GEO:49.918349;8.519243
LAST-MODIFIED:20260419T163353Z
LOCATION:Schloss Dornberg\, Hauptstraße 1\, 64521\, Groß-Gerau
STATUS:CONFIRMED
URL:https://kulvio.de/event/2904
END:VEVENT
END:VCALENDAR
