BEGIN:VCALENDAR
VERSION:2.0
PRODID:-//Kulvio Event Calendar//kulvio.de//
CALSCALE:GREGORIAN
METHOD:PUBLISH
BEGIN:VEVENT
SUMMARY:Volk im Schloss 2026 — Sonntag
DTSTART:20260823T090000Z
DTEND:20260823T200000Z
DTSTAMP:20260421T042431Z
UID:kulvio-event-2905@kulvio.de
CATEGORIES:Festival,Konzert,Open-Air
CREATED:20260419T161303Z
DESCRIPTION:Am Sonntag bietet das Festival Volk im Schloss ein vielfältig
 es Familienprogramm im Schloss Dornberg. Die Indie-Folk-Rock-Band Young Re
 bel Set und die Kinderband Heavysaurus sorgen für Unterhaltung auf der B
 ühne. Dazu gibt es Straßentheater\, Comedy und The Robbie Experience als
  Robbie-Williams-Tribute. Der Eintritt ist frei.
GEO:49.918349;8.519243
LAST-MODIFIED:20260419T163353Z
LOCATION:Schloss Dornberg\, Hauptstraße 1\, 64521\, Groß-Gerau
STATUS:CONFIRMED
URL:https://kulvio.de/event/2905
END:VEVENT
END:VCALENDAR
