BEGIN:VCALENDAR
VERSION:2.0
PRODID:-//Kulvio Event Calendar//kulvio.de//
CALSCALE:GREGORIAN
METHOD:PUBLISH
BEGIN:VEVENT
SUMMARY:GG LOKAL: Lesung mit Ralf Schwob
DTSTART:20260904T173000Z
DTEND:20260904T183000Z
DTSTAMP:20260421T042007Z
UID:kulvio-event-2906@kulvio.de
CATEGORIES:Lesung
CREATED:20260419T161303Z
DESCRIPTION:Im Rahmen der Reihe GG LOKAL liest der Autor Ralf Schwob aus s
 einen Werken im Kulturcafé Groß-Gerau. Die Lesung bietet einen literaris
 chen Abend mit Texten aus der Region und Raum für Gespräche mit dem Auto
 r. Beginn ist um 19:30 Uhr im Kulturcafé-Saal.
GEO:49.919379;8.48587
LAST-MODIFIED:20260419T163353Z
LOCATION:Kulturcafé e.V.\, Darmstädter Straße 31\, 64521\, Groß-Gerau
STATUS:CONFIRMED
URL:https://kulvio.de/event/2906
END:VEVENT
END:VCALENDAR
