BEGIN:VCALENDAR
VERSION:2.0
PRODID:-//Kulvio Event Calendar//kulvio.de//
CALSCALE:GREGORIAN
METHOD:PUBLISH
BEGIN:VEVENT
SUMMARY:Gerer Kerb 2026 — Freitag
DTSTART:20260911T160000Z
DTEND:20260911T215900Z
DTSTAMP:20260421T034604Z
UID:kulvio-event-2907@kulvio.de
CATEGORIES:Stadtfest,Tradition
CREATED:20260419T161303Z
DESCRIPTION:Die Gerer Kerb startet am Freitag mit dem traditionellen Dämm
 ershoppen in die Groß-Gerauer Kirchweih. Das Volksfest rund um den Marktp
 latz bietet Fahrgeschäfte\, Buden und Live-Musik. Die Kerb wird von den G
 erer Kerweborsch und Kerwemädscher organisiert und ist eines der wichtigs
 ten Feste der Stadt. Der Eintritt ist frei.
GEO:49.919208;8.485405
LAST-MODIFIED:20260419T163353Z
LOCATION:Marktplatz\, 64521\, Groß-Gerau
STATUS:CONFIRMED
URL:https://kulvio.de/event/2907
END:VEVENT
END:VCALENDAR
