BEGIN:VCALENDAR
VERSION:2.0
PRODID:-//Kulvio Event Calendar//kulvio.de//
CALSCALE:GREGORIAN
METHOD:PUBLISH
BEGIN:VEVENT
SUMMARY:Gerer Kerb 2026 — Samstag
DTSTART:20260912T090000Z
DTEND:20260912T215900Z
DTSTAMP:20260421T034604Z
UID:kulvio-event-2908@kulvio.de
CATEGORIES:Stadtfest,Tradition
CREATED:20260419T161303Z
DESCRIPTION:Am Samstag erreicht die Gerer Kerb ihren Höhepunkt mit Festzu
 g\, Fahrgeschäften und buntem Programm rund um den Marktplatz. Das Volksf
 est bietet Unterhaltung für alle Altersgruppen mit Karussells\, Ständen 
 und Live-Musik bis in den späten Abend. Die Groß-Gerauer Kirchweih finde
 t traditionell am zweiten Septemberwochenende statt.
GEO:49.919208;8.485405
LAST-MODIFIED:20260419T163353Z
LOCATION:Marktplatz\, 64521\, Groß-Gerau
STATUS:CONFIRMED
URL:https://kulvio.de/event/2908
END:VEVENT
END:VCALENDAR
