BEGIN:VCALENDAR
VERSION:2.0
PRODID:-//Kulvio Event Calendar//kulvio.de//
CALSCALE:GREGORIAN
METHOD:PUBLISH
BEGIN:VEVENT
SUMMARY:Gerer Kerb 2026 — Sonntag
DTSTART:20260913T090000Z
DTEND:20260913T200000Z
DTSTAMP:20260421T034610Z
UID:kulvio-event-2909@kulvio.de
CATEGORIES:Stadtfest,Tradition
CREATED:20260419T161303Z
DESCRIPTION:Am Sonntag klingt die Gerer Kerb mit einem letzten Festtag run
 d um den Groß-Gerauer Marktplatz aus. Die Fahrgeschäfte und Buden sind n
 och einmal geöffnet und Familien nutzen den Nachmittag für einen Besuch 
 auf dem Volksfest. Die Kirchweih endet traditionell am Sonntagabend.
GEO:49.919208;8.485405
LAST-MODIFIED:20260419T163353Z
LOCATION:Marktplatz\, 64521\, Groß-Gerau
STATUS:CONFIRMED
URL:https://kulvio.de/event/2909
END:VEVENT
END:VCALENDAR
