BEGIN:VCALENDAR
VERSION:2.0
PRODID:-//Kulvio Event Calendar//kulvio.de//
CALSCALE:GREGORIAN
METHOD:PUBLISH
BEGIN:VEVENT
SUMMARY:Street Food Festival und Autosalon Groß-Gerau — Freitag
DTSTART:20260918T140000Z
DTEND:20260918T200000Z
DTSTAMP:20260421T042431Z
UID:kulvio-event-2910@kulvio.de
CATEGORIES:Food-Festival
CREATED:20260419T161303Z
DESCRIPTION:Das Street Food Festival und der Autosalon verwandeln den Gro
 ß-Gerauer Marktplatz in eine kulinarische Meile mit internationalen Spezi
 alitäten. Zahlreiche Food Trucks bieten Gerichte aus aller Welt an\, begl
 eitet von Live-Musik und Unterhaltung. Die Veranstaltung ist ein beliebter
  Treffpunkt für Genießer und Autofans gleichermaßen. Der Eintritt ist f
 rei.
GEO:49.919208;8.485405
LAST-MODIFIED:20260419T163353Z
LOCATION:Marktplatz\, 64521\, Groß-Gerau
STATUS:CONFIRMED
URL:https://kulvio.de/event/2910
END:VEVENT
END:VCALENDAR
