BEGIN:VCALENDAR
VERSION:2.0
PRODID:-//Kulvio Event Calendar//kulvio.de//
CALSCALE:GREGORIAN
METHOD:PUBLISH
BEGIN:VEVENT
SUMMARY:Street Food Festival und Autosalon Groß-Gerau — Samstag
DTSTART:20260919T090000Z
DTEND:20260919T200000Z
DTSTAMP:20260421T042803Z
UID:kulvio-event-2911@kulvio.de
CATEGORIES:Food-Festival
CREATED:20260419T161303Z
DESCRIPTION:Am Samstag lädt das Street Food Festival auf dem Groß-Geraue
 r Marktplatz zum ausgiebigen Schlemmen und Staunen ein. Neben den internat
 ionalen Food Trucks gibt es beim Autosalon aktuelle Fahrzeugmodelle zu bes
 taunen. Live-Musik begleitet den Tag und sorgt für Festivalatmosphäre. D
 er Eintritt ist frei.
GEO:49.919208;8.485405
LAST-MODIFIED:20260419T163353Z
LOCATION:Marktplatz\, 64521\, Groß-Gerau
STATUS:CONFIRMED
URL:https://kulvio.de/event/2911
END:VEVENT
END:VCALENDAR
