BEGIN:VCALENDAR
VERSION:2.0
PRODID:-//Kulvio Event Calendar//kulvio.de//
CALSCALE:GREGORIAN
METHOD:PUBLISH
BEGIN:VEVENT
SUMMARY:Street Food Festival und Autosalon Groß-Gerau — Sonntag
DTSTART:20260920T090000Z
DTEND:20260920T180000Z
DTSTAMP:20260421T042007Z
UID:kulvio-event-2912@kulvio.de
CATEGORIES:Food-Festival
CREATED:20260419T161303Z
DESCRIPTION:Am Sonntag bietet das Street Food Festival auf dem Groß-Gerau
 er Marktplatz einen familienfreundlichen Abschluss des kulinarischen Woche
 nendes. Die Food Trucks und der Autosalon sind ein letztes Mal geöffnet u
 nd laden zum gemütlichen Bummel ein. Der Eintritt ist auch am Sonntag fre
 i.
GEO:49.919208;8.485405
LAST-MODIFIED:20260419T163353Z
LOCATION:Marktplatz\, 64521\, Groß-Gerau
STATUS:CONFIRMED
URL:https://kulvio.de/event/2912
END:VEVENT
END:VCALENDAR
