BEGIN:VCALENDAR
VERSION:2.0
PRODID:-//Kulvio Event Calendar//kulvio.de//
CALSCALE:GREGORIAN
METHOD:PUBLISH
BEGIN:VEVENT
SUMMARY:GG LOKAL: Poetry Slam im Kulturcafé Groß-Gerau
DTSTART:20260925T173000Z
DTEND:20260925T183000Z
DTSTAMP:20260421T041938Z
UID:kulvio-event-2913@kulvio.de
CATEGORIES:Open Mic
CREATED:20260419T161303Z
DESCRIPTION:Im Rahmen der Veranstaltungsreihe GG LOKAL treten beim Poetry 
 Slam im Kulturcafé Groß-Gerau Slammer mit ihren selbstgeschriebenen Text
 en gegeneinander an. Das Publikum kürt den Gewinner des Abends in mehrere
 n Runden. Der Poetry Slam bietet eine Mischung aus Humor\, Tiefgang und Sp
 ontanität. Beginn ist um 19:30 Uhr.
GEO:49.919379;8.48587
LAST-MODIFIED:20260419T163353Z
LOCATION:Kulturcafé e.V.\, Darmstädter Straße 31\, 64521\, Groß-Gerau
STATUS:CONFIRMED
URL:https://kulvio.de/event/2913
END:VEVENT
END:VCALENDAR
