BEGIN:VCALENDAR
VERSION:2.0
PRODID:-//Kulvio Event Calendar//kulvio.de//
CALSCALE:GREGORIAN
METHOD:PUBLISH
BEGIN:VEVENT
SUMMARY:Petting Only — Rock Cover im Kulturcafé Groß-Gerau
DTSTART:20260926T180000Z
DTEND:20260926T190000Z
DTSTAMP:20260421T042435Z
UID:kulvio-event-2914@kulvio.de
CATEGORIES:Konzert
CREATED:20260419T161303Z
DESCRIPTION:Die Rock-Cover-Band Petting Only spielt im Kulturcafé Groß-G
 erau ein energiegeladenes Set mit Klassikern der Rockgeschichte. Die Band 
 ist bekannt für ihre mitreißenden Live-Auftritte und ihre breite Songaus
 wahl. Der Konzertabend beginnt um 20 Uhr im Kulturcafé-Saal in der Darmst
 ädter Straße.
GEO:49.919379;8.48587
LAST-MODIFIED:20260419T163353Z
LOCATION:Kulturcafé e.V.\, Darmstädter Straße 31\, 64521\, Groß-Gerau
STATUS:CONFIRMED
URL:https://kulvio.de/event/2914
END:VEVENT
END:VCALENDAR
