BEGIN:VCALENDAR
VERSION:2.0
PRODID:-//Kulvio Event Calendar//kulvio.de//
CALSCALE:GREGORIAN
METHOD:PUBLISH
BEGIN:VEVENT
SUMMARY:Henni Nachtsheim — Lesung und Musik im Kulturcafé Groß-Gerau
DTSTART:20261002T180000Z
DTEND:20261002T190000Z
DTSTAMP:20260421T042811Z
UID:kulvio-event-2915@kulvio.de
CATEGORIES:Lesung,Comedy
CREATED:20260419T161303Z
DESCRIPTION:Henni Nachtsheim\, bekannt als eine Hälfte des Comedy-Duos Ba
 desalz\, präsentiert im Kulturcafé Groß-Gerau einen Abend mit Lesung un
 d Musik. Der hessische Entertainer verbindet humorvolle Texte mit musikali
 schen Einlagen zu einem unterhaltsamen Programm. Beginn ist um 20 Uhr im K
 ulturcafé-Saal.
GEO:49.919379;8.48587
LAST-MODIFIED:20260419T163353Z
LOCATION:Kulturcafé e.V.\, Darmstädter Straße 31\, 64521\, Groß-Gerau
STATUS:CONFIRMED
URL:https://kulvio.de/event/2915
END:VEVENT
END:VCALENDAR
