BEGIN:VCALENDAR
VERSION:2.0
PRODID:-//Kulvio Event Calendar//kulvio.de//
CALSCALE:GREGORIAN
METHOD:PUBLISH
BEGIN:VEVENT
SUMMARY:Boppin'B — Rock'n'Roll im Kulturcafé Groß-Gerau
DTSTART:20261009T180000Z
DTEND:20261009T190000Z
DTSTAMP:20260421T042434Z
UID:kulvio-event-2916@kulvio.de
CATEGORIES:Konzert
CREATED:20260419T161303Z
DESCRIPTION:Die Rock'n'Roll-Band Boppin'B bringt mit ihrem energiegeladene
 n Retro-Sound das Kulturcafé Groß-Gerau zum Beben. Die Formation verbind
 et klassischen Rock'n'Roll mit Swing und Rockabilly zu einer mitreißenden
  Live-Show. Der Konzertabend startet um 20 Uhr im Kulturcafé-Saal.
GEO:49.919379;8.48587
LAST-MODIFIED:20260419T163353Z
LOCATION:Kulturcafé e.V.\, Darmstädter Straße 31\, 64521\, Groß-Gerau
STATUS:CONFIRMED
URL:https://kulvio.de/event/2916
END:VEVENT
END:VCALENDAR
