BEGIN:VCALENDAR
VERSION:2.0
PRODID:-//Kulvio Event Calendar//kulvio.de//
CALSCALE:GREGORIAN
METHOD:PUBLISH
BEGIN:VEVENT
SUMMARY:Groundville Bastards — Heavy Metal Cover im Kulturcafé Groß-Ge
 rau
DTSTART:20261017T180000Z
DTEND:20261017T190000Z
DTSTAMP:20260421T042825Z
UID:kulvio-event-2917@kulvio.de
CATEGORIES:Konzert
CREATED:20260419T161303Z
DESCRIPTION:Die Groundville Bastards bringen Heavy Metal Cover auf die Bü
 hne des Kulturcafé Groß-Gerau. Die Band liefert einen kraftvollen Abend 
 mit den härtesten Riffs und Klassikern des Metal-Genres. Beginn ist um 20
  Uhr\, der Abend richtet sich an Fans von schwerem Gitarrensound.
GEO:49.919379;8.48587
LAST-MODIFIED:20260419T163353Z
LOCATION:Kulturcafé e.V.\, Darmstädter Straße 31\, 64521\, Groß-Gerau
STATUS:CONFIRMED
URL:https://kulvio.de/event/2917
END:VEVENT
END:VCALENDAR
