BEGIN:VCALENDAR
VERSION:2.0
PRODID:-//Kulvio Event Calendar//kulvio.de//
CALSCALE:GREGORIAN
METHOD:PUBLISH
BEGIN:VEVENT
SUMMARY:Jazzapple — Jazz im Kulturcafé Groß-Gerau
DTSTART:20261018T150000Z
DTEND:20261018T160000Z
DTSTAMP:20260421T042435Z
UID:kulvio-event-2918@kulvio.de
CATEGORIES:Konzert
CREATED:20260419T161303Z
DESCRIPTION:Das Ensemble Jazzapple spielt im Kulturcafé Groß-Gerau einen
  Nachmittag mit Jazz. Die Formation bietet eine stilvolle Mischung aus Jaz
 z-Standards und eigenen Kompositionen in der intimen Atmosphäre des Kultu
 rcafé-Saals. Beginn ist um 17 Uhr.
GEO:49.919379;8.48587
LAST-MODIFIED:20260419T163353Z
LOCATION:Kulturcafé e.V.\, Darmstädter Straße 31\, 64521\, Groß-Gerau
STATUS:CONFIRMED
URL:https://kulvio.de/event/2918
END:VEVENT
END:VCALENDAR
