BEGIN:VCALENDAR
VERSION:2.0
PRODID:-//Kulvio Event Calendar//kulvio.de//
CALSCALE:GREGORIAN
METHOD:PUBLISH
BEGIN:VEVENT
SUMMARY:Die Opel-Gang — Die Toten Hosen Tribute im Kulturcafé Groß-Ger
 au
DTSTART:20261024T180000Z
DTEND:20261024T190000Z
DTSTAMP:20260421T042431Z
UID:kulvio-event-2919@kulvio.de
CATEGORIES:Konzert
CREATED:20260419T161303Z
DESCRIPTION:Die Tribute-Band Die Opel-Gang bringt die größten Hits der T
 oten Hosen auf die Bühne des Kulturcafé Groß-Gerau. Von Hier kommt Alex
  bis Tage wie diese liefert die Band einen energiegeladenen Konzertabend i
 m Geiste der Düsseldorfer Punkrock-Legenden. Beginn ist um 20 Uhr im Kult
 urcafé-Saal.
GEO:49.919379;8.48587
LAST-MODIFIED:20260419T163353Z
LOCATION:Kulturcafé e.V.\, Darmstädter Straße 31\, 64521\, Groß-Gerau
STATUS:CONFIRMED
URL:https://kulvio.de/event/2919
END:VEVENT
END:VCALENDAR
