BEGIN:VCALENDAR
VERSION:2.0
PRODID:-//Kulvio Event Calendar//kulvio.de//
CALSCALE:GREGORIAN
METHOD:PUBLISH
BEGIN:VEVENT
SUMMARY:Alice Hoffmann — Comedy im Kulturcafé Groß-Gerau
DTSTART:20261025T160000Z
DTEND:20261025T170000Z
DTSTAMP:20260421T042501Z
UID:kulvio-event-2920@kulvio.de
CATEGORIES:Comedy
CREATED:20260419T161303Z
DESCRIPTION:Die Comedienne Alice Hoffmann gastiert im Kulturcafé Groß-Ge
 rau mit ihrem aktuellen Programm. Die Kabarettistin und Komikerin ist beka
 nnt für ihren scharfzüngigen Humor und ihre Beobachtungen aus dem Alltag
 . Die Vorstellung beginnt um 17 Uhr im Kulturcafé-Saal.
GEO:49.919379;8.48587
LAST-MODIFIED:20260419T163353Z
LOCATION:Kulturcafé e.V.\, Darmstädter Straße 31\, 64521\, Groß-Gerau
STATUS:CONFIRMED
URL:https://kulvio.de/event/2920
END:VEVENT
END:VCALENDAR
