BEGIN:VCALENDAR
VERSION:2.0
PRODID:-//Kulvio Event Calendar//kulvio.de//
CALSCALE:GREGORIAN
METHOD:PUBLISH
BEGIN:VEVENT
SUMMARY:Whisky Tasting — Taste of Scotland im Kulturcafé Groß-Gerau
DTSTART:20261030T180000Z
DTEND:20261030T190000Z
DTSTAMP:20260421T041939Z
UID:kulvio-event-2921@kulvio.de
CATEGORIES:Tasting
CREATED:20260419T161303Z
DESCRIPTION:Beim Whisky Tasting Taste of Scotland im Kulturcafé Groß-Ger
 au können Genießer ausgewählte schottische Whiskys verkosten und mehr 
 über deren Herkunft und Herstellung erfahren. Ein fachkundiger Whisky-Exp
 erte führt durch den Abend und stellt verschiedene Sorten und Destillerie
 n vor. Beginn ist um 19 Uhr im Kulturcafé-Saal.
GEO:49.919379;8.48587
LAST-MODIFIED:20260419T163353Z
LOCATION:Kulturcafé e.V.\, Darmstädter Straße 31\, 64521\, Groß-Gerau
STATUS:CONFIRMED
URL:https://kulvio.de/event/2921
END:VEVENT
END:VCALENDAR
