BEGIN:VCALENDAR
VERSION:2.0
PRODID:-//Kulvio Event Calendar//kulvio.de//
CALSCALE:GREGORIAN
METHOD:PUBLISH
BEGIN:VEVENT
SUMMARY:Tanztee und NITROGIN — Rock im Kulturcafé Groß-Gerau
DTSTART:20261113T190000Z
DTEND:20261113T200000Z
DTSTAMP:20260421T042947Z
UID:kulvio-event-2922@kulvio.de
CATEGORIES:Konzert
CREATED:20260419T161303Z
DESCRIPTION:Die Rockbands Tanztee und NITROGIN spielen einen gemeinsamen K
 onzertabend im Kulturcafé Groß-Gerau. Zwei Bands auf einer Bühne sorgen
  für ein abwechslungsreiches Rock-Programm mit regionalen und überregion
 alen Klängen. Beginn ist um 20 Uhr im Kulturcafé-Saal.
GEO:49.919379;8.48587
LAST-MODIFIED:20260419T163353Z
LOCATION:Kulturcafé e.V.\, Darmstädter Straße 31\, 64521\, Groß-Gerau
STATUS:CONFIRMED
URL:https://kulvio.de/event/2922
END:VEVENT
END:VCALENDAR
