BEGIN:VCALENDAR
VERSION:2.0
PRODID:-//Kulvio Event Calendar//kulvio.de//
CALSCALE:GREGORIAN
METHOD:PUBLISH
BEGIN:VEVENT
SUMMARY:Concrete Jungle — Reggae im Kulturcafé Groß-Gerau
DTSTART:20261120T190000Z
DTEND:20261120T200000Z
DTSTAMP:20260421T042433Z
UID:kulvio-event-2923@kulvio.de
CATEGORIES:Konzert
CREATED:20260419T161303Z
DESCRIPTION:Die Reggae-Band Concrete Jungle bringt karibische Klänge in d
 as Kulturcafé Groß-Gerau. Mit ihrem Mix aus Roots-Reggae und modernen Ei
 nflüssen sorgt die Band für einen entspannten und groovigen Konzertabend
 . Beginn ist um 20 Uhr im Kulturcafé-Saal.
GEO:49.919379;8.48587
LAST-MODIFIED:20260419T163353Z
LOCATION:Kulturcafé e.V.\, Darmstädter Straße 31\, 64521\, Groß-Gerau
STATUS:CONFIRMED
URL:https://kulvio.de/event/2923
END:VEVENT
END:VCALENDAR
