BEGIN:VCALENDAR
VERSION:2.0
PRODID:-//Kulvio Event Calendar//kulvio.de//
CALSCALE:GREGORIAN
METHOD:PUBLISH
BEGIN:VEVENT
SUMMARY:Hans Gerzlich — Comedy im Kulturcafé Groß-Gerau
DTSTART:20261129T170000Z
DTEND:20261129T180000Z
DTSTAMP:20260421T042937Z
UID:kulvio-event-2924@kulvio.de
CATEGORIES:Comedy
CREATED:20260419T161303Z
DESCRIPTION:Der Comedian Hans Gerzlich präsentiert sein Programm im Kultu
 rcafé Groß-Gerau. Mit Witz und Charme unterhält er das Publikum mit Ges
 chichten und Beobachtungen aus dem Alltag. Die Vorstellung beginnt um 18 U
 hr im Kulturcafé-Saal in der Darmstädter Straße.
GEO:49.919379;8.48587
LAST-MODIFIED:20260419T163353Z
LOCATION:Kulturcafé e.V.\, Darmstädter Straße 31\, 64521\, Groß-Gerau
STATUS:CONFIRMED
URL:https://kulvio.de/event/2924
END:VEVENT
END:VCALENDAR
