BEGIN:VCALENDAR
VERSION:2.0
PRODID:-//Kulvio Event Calendar//kulvio.de//
CALSCALE:GREGORIAN
METHOD:PUBLISH
BEGIN:VEVENT
SUMMARY:Weihnachtsmarkt Groß-Gerau — Freitag
DTSTART:20261204T150000Z
DTEND:20261204T200000Z
DTSTAMP:20260421T042432Z
UID:kulvio-event-2925@kulvio.de
CATEGORIES:Weihnachtsmarkt
CREATED:20260419T161303Z
DESCRIPTION:Der Groß-Gerauer Weihnachtsmarkt eröffnet am Freitag auf dem
  Marktplatz mit rund 30 festlich geschmückten Ständen. Regionale Spezial
 itäten\, Glühwein\, gebrannte Mandeln und Kunsthandwerk laden zum vorwei
 hnachtlichen Bummel ein. Auch Stände der Partnerstädte bereichern das An
 gebot. Der Eintritt ist frei.
GEO:49.919208;8.485405
LAST-MODIFIED:20260419T163353Z
LOCATION:Marktplatz\, 64521\, Groß-Gerau
STATUS:CONFIRMED
URL:https://kulvio.de/event/2925
END:VEVENT
END:VCALENDAR
