BEGIN:VCALENDAR
VERSION:2.0
PRODID:-//Kulvio Event Calendar//kulvio.de//
CALSCALE:GREGORIAN
METHOD:PUBLISH
BEGIN:VEVENT
SUMMARY:Weihnachtsmarkt Groß-Gerau — Samstag
DTSTART:20261205T110000Z
DTEND:20261205T200000Z
DTSTAMP:20260421T042500Z
UID:kulvio-event-2926@kulvio.de
CATEGORIES:Weihnachtsmarkt
CREATED:20260419T161303Z
DESCRIPTION:Am Samstag lädt der Groß-Gerauer Weihnachtsmarkt auf dem Mar
 ktplatz zum gemütlichen Adventsbummel ein. Neben den rund 30 Ständen mit
  Kunsthandwerk und kulinarischen Angeboten sorgen musikalische Darbietunge
 n für weihnachtliche Atmosphäre. Ein Kinderkarussell und der Besuch des 
 Weihnachtsmanns runden das Programm ab.
GEO:49.919208;8.485405
LAST-MODIFIED:20260419T163353Z
LOCATION:Marktplatz\, 64521\, Groß-Gerau
STATUS:CONFIRMED
URL:https://kulvio.de/event/2926
END:VEVENT
END:VCALENDAR
