BEGIN:VCALENDAR
VERSION:2.0
PRODID:-//Kulvio Event Calendar//kulvio.de//
CALSCALE:GREGORIAN
METHOD:PUBLISH
BEGIN:VEVENT
SUMMARY:Weihnachtsmarkt Groß-Gerau — Sonntag
DTSTART:20261206T110000Z
DTEND:20261206T190000Z
DTSTAMP:20260421T042458Z
UID:kulvio-event-2927@kulvio.de
CATEGORIES:Weihnachtsmarkt
CREATED:20260419T161304Z
DESCRIPTION:Am Sonntag klingt der Groß-Gerauer Weihnachtsmarkt auf dem Ma
 rktplatz mit einem letzten Adventstag aus. Die Besucher können noch einma
 l an den festlichen Ständen stöbern\, Glühwein genießen und die vorwei
 hnachtliche Atmosphäre erleben. Der Eintritt ist auch am letzten Tag frei
 .
GEO:49.919208;8.485405
LAST-MODIFIED:20260419T163353Z
LOCATION:Marktplatz\, 64521\, Groß-Gerau
STATUS:CONFIRMED
URL:https://kulvio.de/event/2927
END:VEVENT
END:VCALENDAR
