BEGIN:VCALENDAR
VERSION:2.0
PRODID:-//Kulvio Event Calendar//kulvio.de//
CALSCALE:GREGORIAN
METHOD:PUBLISH
BEGIN:VEVENT
SUMMARY:Thunder/Bells — Rock Cover im Kulturcafé Groß-Gerau
DTSTART:20261212T190000Z
DTEND:20261212T200000Z
DTSTAMP:20260421T042119Z
UID:kulvio-event-2928@kulvio.de
CATEGORIES:Konzert
CREATED:20260419T161304Z
DESCRIPTION:Die Rock-Cover-Band Thunder/Bells spielt im Kulturcafé Groß-
 Gerau einen Abend mit AC/DC-inspirierten Rock-Klassikern. Die Band liefert
  kraftvollen Hard Rock mit Hits der großen Rock-Legenden. Der Konzertaben
 d beginnt um 20 Uhr im Kulturcafé-Saal.
GEO:49.919379;8.48587
LAST-MODIFIED:20260419T163353Z
LOCATION:Kulturcafé e.V.\, Darmstädter Straße 31\, 64521\, Groß-Gerau
STATUS:CONFIRMED
URL:https://kulvio.de/event/2928
END:VEVENT
END:VCALENDAR
