BEGIN:VCALENDAR
VERSION:2.0
PRODID:-//Kulvio Event Calendar//kulvio.de//
CALSCALE:GREGORIAN
METHOD:PUBLISH
BEGIN:VEVENT
SUMMARY:Aurora de Meehl — Comedy im Kulturcafé Groß-Gerau
DTSTART:20261213T160000Z
DTEND:20261213T170000Z
DTSTAMP:20260421T042311Z
UID:kulvio-event-2929@kulvio.de
CATEGORIES:Comedy
CREATED:20260419T161304Z
DESCRIPTION:Die Comedienne Aurora de Meehl gastiert im Kulturcafé Groß-G
 erau mit ihrem aktuellen Bühnenprogramm. Mit pointiertem Humor und scharf
 em Blick für die Absurditäten des Alltags unterhält sie das Publikum am
  Nachmittag. Die Vorstellung beginnt um 17 Uhr im Kulturcafé-Saal.
GEO:49.919379;8.48587
LAST-MODIFIED:20260419T163353Z
LOCATION:Kulturcafé e.V.\, Darmstädter Straße 31\, 64521\, Groß-Gerau
STATUS:CONFIRMED
URL:https://kulvio.de/event/2929
END:VEVENT
END:VCALENDAR
