BEGIN:VCALENDAR
VERSION:2.0
PRODID:-//Kulvio Event Calendar//kulvio.de//
CALSCALE:GREGORIAN
METHOD:PUBLISH
BEGIN:VEVENT
SUMMARY:Tag der offenen Tür der Feuerwehr Nauheim
DTSTART:20260501T080000Z
DTEND:20260501T160000Z
DTSTAMP:20260421T042500Z
UID:kulvio-event-2930@kulvio.de
CATEGORIES:Familienausflug
CREATED:20260419T161318Z
DESCRIPTION:Die Freiwillige Feuerwehr Nauheim öffnet am 1. Mai ihre Türe
 n im Friedel-Scherer-Feuerwehrhaus und lädt Familien und Interessierte zu
 m Besuch ein. Besucher können Fahrzeuge und Ausrüstung besichtigen\, Vor
 führungen der Einsatzkräfte erleben und sich über die ehrenamtliche Arb
 eit der Feuerwehr informieren. Von 10 bis 18 Uhr gibt es ein buntes Progra
 mm mit Mitmachaktionen für Kinder und Verpflegung. Der Eintritt ist frei.
GEO:49.954504;8.452879
LAST-MODIFIED:20260419T163353Z
LOCATION:Friedel-Scherer-Feuerwehrhaus\, Rüsselsheimer Straße 57\, 64569
 \, Nauheim
STATUS:CONFIRMED
URL:https://kulvio.de/event/2930
END:VEVENT
END:VCALENDAR
