BEGIN:VCALENDAR
VERSION:2.0
PRODID:-//Kulvio Event Calendar//kulvio.de//
CALSCALE:GREGORIAN
METHOD:PUBLISH
BEGIN:VEVENT
SUMMARY:Naumer Weingenuss im Alten Rathaus
DTSTART:20260510T140000Z
DTEND:20260510T180000Z
DTSTAMP:20260421T042811Z
UID:kulvio-event-2931@kulvio.de
CATEGORIES:Tasting
CREATED:20260419T161318Z
DESCRIPTION:Beim Naumer Weingenuss im Alten Rathaus am Heinrich-Kaul-Platz
  kommen Weinliebhaber auf ihre Kosten. In geselliger Runde werden ausgewä
 hlte Weine aus verschiedenen Anbaugebieten verkostet und von fachkundigen 
 Winzern vorgestellt. Die Veranstaltung findet von 16 bis 20 Uhr statt und 
 bietet eine entspannte Atmosphäre zum Probieren und Plaudern.
GEO:49.94455;8.454868
LAST-MODIFIED:20260419T163353Z
LOCATION:Altes Rathaus Nauheim\, Heinrich-Kaul-Platz 8\, 64569\, Nauheim
STATUS:CONFIRMED
URL:https://kulvio.de/event/2931
END:VEVENT
END:VCALENDAR
