BEGIN:VCALENDAR
VERSION:2.0
PRODID:-//Kulvio Event Calendar//kulvio.de//
CALSCALE:GREGORIAN
METHOD:PUBLISH
BEGIN:VEVENT
SUMMARY:Naumer Weingenuss im Alten Rathaus — Mai II
DTSTART:20260531T140000Z
DTEND:20260531T180000Z
DTSTAMP:20260421T042312Z
UID:kulvio-event-2932@kulvio.de
CATEGORIES:Tasting
CREATED:20260419T161318Z
DESCRIPTION:Der zweite Naumer Weingenuss im Mai lädt erneut ins Alte Rath
 aus am Heinrich-Kaul-Platz ein. Weinfreunde können bei dieser Verkostung 
 weitere Tropfen entdecken und den Feierabend in gemütlicher Runde genieß
 en. Die Veranstaltung findet von 16 bis 20 Uhr statt.
GEO:49.94455;8.454868
LAST-MODIFIED:20260419T163353Z
LOCATION:Altes Rathaus Nauheim\, Heinrich-Kaul-Platz 8\, 64569\, Nauheim
STATUS:CONFIRMED
URL:https://kulvio.de/event/2932
END:VEVENT
END:VCALENDAR
