BEGIN:VCALENDAR
VERSION:2.0
PRODID:-//Kulvio Event Calendar//kulvio.de//
CALSCALE:GREGORIAN
METHOD:PUBLISH
BEGIN:VEVENT
SUMMARY:Naumer Kerb 2026 — Freitag
DTSTART:20261002T160000Z
DTEND:20261002T215900Z
DTSTAMP:20260421T034741Z
UID:kulvio-event-2933@kulvio.de
CATEGORIES:Stadtfest,Tradition
CREATED:20260419T161318Z
DESCRIPTION:Die Naumer Kerb eröffnet am Freitag mit dem traditionellen Fa
 ssbieranstich durch den Bürgermeister. Das Volksfest wird von den Naumer 
 Kerweborsch organisiert und bietet Fahrgeschäfte\, Buden und Live-Unterha
 ltung rund um den Festplatz. Die Kirchweih gehört zu den wichtigsten Fest
 en der Gemeinde Nauheim und lockt Besucher aus der ganzen Region. Der Eint
 ritt ist frei.
GEO:49.950337;8.456966
LAST-MODIFIED:20260419T163353Z
LOCATION:Georg-Mischlich-Platz\, 64569\, Nauheim
STATUS:CONFIRMED
URL:https://kulvio.de/event/2933
END:VEVENT
END:VCALENDAR
