BEGIN:VCALENDAR
VERSION:2.0
PRODID:-//Kulvio Event Calendar//kulvio.de//
CALSCALE:GREGORIAN
METHOD:PUBLISH
BEGIN:VEVENT
SUMMARY:Naumer Kerb 2026 — Samstag
DTSTART:20261003T090000Z
DTEND:20261003T215900Z
DTSTAMP:20260421T035118Z
UID:kulvio-event-2934@kulvio.de
CATEGORIES:Stadtfest,Tradition
CREATED:20260419T161318Z
DESCRIPTION:Am Samstag erreicht die Naumer Kerb ihren Höhepunkt mit dem K
 erbezug der Kerweborsch durch den Ort und einer langen Rocknacht am Abend.
  Tagsüber laden Fahrgeschäfte und Stände zum Verweilen ein und am Festp
 latz gibt es Verpflegung und Unterhaltung für alle Altersgruppen. Die Ker
 b findet traditionell am ersten Oktoberwochenende statt.
GEO:49.950337;8.456966
LAST-MODIFIED:20260419T163353Z
LOCATION:Georg-Mischlich-Platz\, 64569\, Nauheim
STATUS:CONFIRMED
URL:https://kulvio.de/event/2934
END:VEVENT
END:VCALENDAR
