BEGIN:VCALENDAR
VERSION:2.0
PRODID:-//Kulvio Event Calendar//kulvio.de//
CALSCALE:GREGORIAN
METHOD:PUBLISH
BEGIN:VEVENT
SUMMARY:Naumer Kerb 2026 — Sonntag
DTSTART:20261004T090000Z
DTEND:20261004T210000Z
DTSTAMP:20260421T035120Z
UID:kulvio-event-2935@kulvio.de
CATEGORIES:Stadtfest,Tradition
CREATED:20260419T161318Z
DESCRIPTION:Am Sonntag bietet die Naumer Kerb einen Familientag mit Kerbek
 affee am Nachmittag und weiterem Festprogramm rund um den Georg-Mischlich-
 Platz. Die Fahrgeschäfte und Stände sind geöffnet und der Kerbetanz sor
 gt für Unterhaltung. Die Kirchweih ist einer der gesellschaftlichen Höhe
 punkte im Nauheimer Jahreskalender.
GEO:49.950337;8.456966
LAST-MODIFIED:20260419T163353Z
LOCATION:Georg-Mischlich-Platz\, 64569\, Nauheim
STATUS:CONFIRMED
URL:https://kulvio.de/event/2935
END:VEVENT
END:VCALENDAR
