BEGIN:VCALENDAR
VERSION:2.0
PRODID:-//Kulvio Event Calendar//kulvio.de//
CALSCALE:GREGORIAN
METHOD:PUBLISH
BEGIN:VEVENT
SUMMARY:Naumer Kerb 2026 — Montag
DTSTART:20261005T120000Z
DTEND:20261005T200000Z
DTSTAMP:20260421T035130Z
UID:kulvio-event-2936@kulvio.de
CATEGORIES:Stadtfest,Tradition
CREATED:20260419T161318Z
DESCRIPTION:Am Montag klingt die Naumer Kerb mit einem letzten Festtag am 
 Georg-Mischlich-Platz aus. Die Kerweborsch beenden die Kirchweih mit dem t
 raditionellen Abschied und die letzten Fahrgeschäfte drehen ihre Runden. 
 Die Naumer Kerb endet traditionell am Montag nach dem ersten Oktoberwochen
 ende.
GEO:49.950337;8.456966
LAST-MODIFIED:20260419T163353Z
LOCATION:Georg-Mischlich-Platz\, 64569\, Nauheim
STATUS:CONFIRMED
URL:https://kulvio.de/event/2936
END:VEVENT
END:VCALENDAR
