BEGIN:VCALENDAR
VERSION:2.0
PRODID:-//Kulvio Event Calendar//kulvio.de//
CALSCALE:GREGORIAN
METHOD:PUBLISH
BEGIN:VEVENT
SUMMARY:Nauheimer Weihnachtsmarkt — Samstag
DTSTART:20261128T130000Z
DTEND:20261128T210000Z
DTSTAMP:20260421T042428Z
UID:kulvio-event-2937@kulvio.de
CATEGORIES:Weihnachtsmarkt
CREATED:20260419T161318Z
DESCRIPTION:Der Nauheimer Weihnachtsmarkt eröffnet am ersten Adventswoche
 nende im Atrium an der Weingartenstraße. Ein kleiner Künstlermarkt\, ein
  Kinderkarussell sowie herzhafte und süße Spezialitäten sorgen für vor
 weihnachtliche Stimmung. Chor-Auftritte und festliche Beleuchtung begleite
 n den Nachmittag und Abend. Der Eintritt ist frei.
GEO:49.946526;8.449514
LAST-MODIFIED:20260419T163353Z
LOCATION:Atrium Nauheim\, Weingartenstraße 46\, 64569\, Nauheim
STATUS:CONFIRMED
URL:https://kulvio.de/event/2937
END:VEVENT
END:VCALENDAR
