BEGIN:VCALENDAR
VERSION:2.0
PRODID:-//Kulvio Event Calendar//kulvio.de//
CALSCALE:GREGORIAN
METHOD:PUBLISH
BEGIN:VEVENT
SUMMARY:Nauheimer Weihnachtsmarkt — Sonntag
DTSTART:20261129T110000Z
DTEND:20261129T180000Z
DTSTAMP:20260421T042431Z
UID:kulvio-event-2938@kulvio.de
CATEGORIES:Weihnachtsmarkt
CREATED:20260419T161318Z
DESCRIPTION:Am Sonntag empfängt der Nauheimer Weihnachtsmarkt im Atrium a
 n der Weingartenstraße die Besucher erneut mit Kunsthandwerk\, Glühwein 
 und Weihnachtsleckereien. Um 17 Uhr kommt der Nikolaus zu Besuch und sorgt
  für leuchtende Kinderaugen. Der Markt klingt am frühen Abend aus.
GEO:49.946526;8.449514
LAST-MODIFIED:20260419T163353Z
LOCATION:Atrium Nauheim\, Weingartenstraße 46\, 64569\, Nauheim
STATUS:CONFIRMED
URL:https://kulvio.de/event/2938
END:VEVENT
END:VCALENDAR
