BEGIN:VCALENDAR
VERSION:2.0
PRODID:-//Kulvio Event Calendar//kulvio.de//
CALSCALE:GREGORIAN
METHOD:PUBLISH
BEGIN:VEVENT
SUMMARY:Jochen Malmsheimer: Halt mal\, Schatz! — BüchnerBühne Riedstad
 t
DTSTART:20260422T173000Z
DTEND:20260422T183000Z
DTSTAMP:20260421T041937Z
UID:kulvio-event-2939@kulvio.de
CATEGORIES:Kabarett
CREATED:20260419T161330Z
DESCRIPTION:Der Kabarettist Jochen Malmsheimer gastiert mit seinem Program
 m Halt mal\, Schatz! auf der BüchnerBühne in Riedstadt-Goddelau. Malmshe
 imer ist bekannt für seine virtuosen Sprachkunstwerke und gehört zu den 
 profiliertesten Kabarettisten Deutschlands. Die Vorstellung beginnt um 19:
 30 Uhr in der intimen Atmosphäre des Theaters in der Kirchstraße. Ticket
 s sind über Reservix erhältlich.
GEO:49.85702;8.445091
LAST-MODIFIED:20260419T163353Z
LOCATION:BüchnerBühne\, Kirchstraße 16\, 64560\, Riedstadt
STATUS:CONFIRMED
URL:https://kulvio.de/event/2939
END:VEVENT
END:VCALENDAR
