BEGIN:VCALENDAR
VERSION:2.0
PRODID:-//Kulvio Event Calendar//kulvio.de//
CALSCALE:GREGORIAN
METHOD:PUBLISH
BEGIN:VEVENT
SUMMARY:15 Jahre BüchnerBühne — Fest und Musik
DTSTART:20260430T173000Z
DTEND:20260430T183000Z
DTSTAMP:20260421T042119Z
UID:kulvio-event-2940@kulvio.de
CATEGORIES:Show,Konzert
CREATED:20260419T161330Z
DESCRIPTION:Die BüchnerBühne in Riedstadt-Goddelau feiert ihr 15-jährig
 es Bestehen mit einem Abend voller Musik und Rückblicke. Das Jubiläumsfe
 st bietet einen festlichen Rahmen\, in dem die Geschichte des Theaters gew
 ürdigt und mit Live-Musik gefeiert wird. Die Veranstaltung beginnt um 19:
 30 Uhr in der Kirchstraße.
GEO:49.85702;8.445091
LAST-MODIFIED:20260419T163353Z
LOCATION:BüchnerBühne\, Kirchstraße 16\, 64560\, Riedstadt
STATUS:CONFIRMED
URL:https://kulvio.de/event/2940
END:VEVENT
END:VCALENDAR
