BEGIN:VCALENDAR
VERSION:2.0
PRODID:-//Kulvio Event Calendar//kulvio.de//
CALSCALE:GREGORIAN
METHOD:PUBLISH
BEGIN:VEVENT
SUMMARY:Christian Döring: Wo bitte geht's zum Arsch der Welt? — Büchne
 rBühne
DTSTART:20260502T173000Z
DTEND:20260502T183000Z
DTSTAMP:20260421T042006Z
UID:kulvio-event-2941@kulvio.de
CATEGORIES:Kabarett
CREATED:20260419T161330Z
DESCRIPTION:Der Kabarettist Christian Döring präsentiert sein Programm W
 o bitte geht's zum Arsch der Welt? auf der BüchnerBühne in Riedstadt. Mi
 t hessischem Humor und pointierten Beobachtungen nimmt Döring sein Publik
 um mit auf eine komische Reise durch den Alltag. Die Vorstellung beginnt u
 m 19:30 Uhr.
GEO:49.85702;8.445091
LAST-MODIFIED:20260419T163353Z
LOCATION:BüchnerBühne\, Kirchstraße 16\, 64560\, Riedstadt
STATUS:CONFIRMED
URL:https://kulvio.de/event/2941
END:VEVENT
END:VCALENDAR
